BEGIN:VCALENDAR
VERSION:2.0
PRODID:SchoolNow
CALSCALE:GREGORIAN
BEGIN:VEVENT
UID:27466026-5189-11ee-8045-022243fcf76d
DTSTAMP:20240828T150420Z
SUMMARY:CDD Board Meeting Sept. 2024 (Cancelled)
LOCATION:Hilton Garden Inn\, 26640 Silver Maple Parkway\, Wesley Chapel\, F
 lorida 33544
URL;VALUE=URI:https://www.zephyrlakescdd.org/calendar/4722134/cdd-board-mee
 ting-sept-2024
DTSTART:20240903T220000Z
DTEND:20240903T230000Z
ATTACH;FILENAME=2024-09-03 Zephyr Lakes Agenda.pdf;FMTTYPE=application/pdf:
 https://campussuite-storage.s3.amazonaws.com/prod/1558811/8026312c-a7e1-11
 e9-96a5-0a68ab9c99d0/2838796/89314bae-64e1-11ef-b600-0a58a9feac02/file/202
 4-09-03 Zephyr Lakes Agenda.pdf
END:VEVENT
END:VCALENDAR
